BEGIN:VCALENDAR
VERSION:2.0
PRODID:-//Reso Witt e.V. - ECPv6.15.18//NONSGML v1.0//EN
CALSCALE:GREGORIAN
METHOD:PUBLISH
X-ORIGINAL-URL:https://reso-witt.de
X-WR-CALDESC:Veranstaltungen für Reso Witt e.V.
REFRESH-INTERVAL;VALUE=DURATION:PT1H
X-Robots-Tag:noindex
X-PUBLISHED-TTL:PT1H
BEGIN:VTIMEZONE
TZID:Europe/Berlin
BEGIN:DAYLIGHT
TZOFFSETFROM:+0100
TZOFFSETTO:+0200
TZNAME:CEST
DTSTART:20240331T010000
END:DAYLIGHT
BEGIN:STANDARD
TZOFFSETFROM:+0200
TZOFFSETTO:+0100
TZNAME:CET
DTSTART:20241027T010000
END:STANDARD
BEGIN:DAYLIGHT
TZOFFSETFROM:+0100
TZOFFSETTO:+0200
TZNAME:CEST
DTSTART:20250330T010000
END:DAYLIGHT
BEGIN:STANDARD
TZOFFSETFROM:+0200
TZOFFSETTO:+0100
TZNAME:CET
DTSTART:20251026T010000
END:STANDARD
BEGIN:DAYLIGHT
TZOFFSETFROM:+0100
TZOFFSETTO:+0200
TZNAME:CEST
DTSTART:20260329T010000
END:DAYLIGHT
BEGIN:STANDARD
TZOFFSETFROM:+0200
TZOFFSETTO:+0100
TZNAME:CET
DTSTART:20261025T010000
END:STANDARD
BEGIN:DAYLIGHT
TZOFFSETFROM:+0100
TZOFFSETTO:+0200
TZNAME:CEST
DTSTART:20270328T010000
END:DAYLIGHT
BEGIN:STANDARD
TZOFFSETFROM:+0200
TZOFFSETTO:+0100
TZNAME:CET
DTSTART:20271031T010000
END:STANDARD
END:VTIMEZONE
BEGIN:VEVENT
DTSTART;TZID=Europe/Berlin:20260415T170000
DTEND;TZID=Europe/Berlin:20260415T190000
DTSTAMP:20260423T094220
CREATED:20260408T171316Z
LAST-MODIFIED:20260408T171316Z
UID:10001558-1776272400-1776279600@reso-witt.de
SUMMARY:Mein Kind geht nicht (gern) zur Schule!
DESCRIPTION:
URL:https://reso-witt.de/event/mein-kind-geht-nicht-gern-zur-schule/
LOCATION:Reso-Witt e.V.\, Große-Bruchstraße 17\, Lutherstadt Wittenberg\, 06886
CATEGORIES:Ticker,Veranstaltungen
ATTACH;FMTTYPE=image/webp:https://reso-witt.de/wp-content/uploads/2026/04/Flyer-Elterncafe.webp
END:VEVENT
BEGIN:VEVENT
DTSTART;TZID=Europe/Berlin:20250815T170000
DTEND;TZID=Europe/Berlin:20250815T200000
DTSTAMP:20260423T094220
CREATED:20240508T091444Z
LAST-MODIFIED:20250331T142952Z
UID:10001067-1755277200-1755288000@reso-witt.de
SUMMARY:Reso-Witt-Beachvolleyballturnier
DESCRIPTION:
URL:https://reso-witt.de/event/reso-witt-beachvolleyballturnier-wb/
LOCATION:Reso-Witt e.V.\, Große-Bruchstraße 17\, Lutherstadt Wittenberg\, 06886
CATEGORIES:Ticker,Volleyball
ATTACH;FMTTYPE=image/webp:https://reso-witt.de/wp-content/uploads/2024/05/1307.webp
END:VEVENT
BEGIN:VEVENT
DTSTART;VALUE=DATE:20250728
DTEND;VALUE=DATE:20250801
DTSTAMP:20260423T094220
CREATED:20240416T184138Z
LAST-MODIFIED:20250110T123603Z
UID:10000017-1753660800-1754006399@reso-witt.de
SUMMARY:Gruppenfahrt Kinder
DESCRIPTION:
URL:https://reso-witt.de/event/gruppenfahrt-kinder/
LOCATION:Reso-Witt e.V.\, Große-Bruchstraße 17\, Lutherstadt Wittenberg\, 06886
ATTACH;FMTTYPE=image/webp:https://reso-witt.de/wp-content/uploads/2024/04/68967.webp
END:VEVENT
BEGIN:VEVENT
DTSTART;TZID=Europe/Berlin:20250212T150000
DTEND;TZID=Europe/Berlin:20250212T170000
DTSTAMP:20260423T094220
CREATED:20241018T075104Z
LAST-MODIFIED:20250122T200802Z
UID:10001106-1739372400-1739379600@reso-witt.de
SUMMARY:Winterfest
DESCRIPTION:
URL:https://reso-witt.de/event/winterfest/
LOCATION:Reso-Witt e.V.\, Große-Bruchstraße 17\, Lutherstadt Wittenberg\, 06886
CATEGORIES:Ticker,Veranstaltungen
ATTACH;FMTTYPE=image/webp:https://reso-witt.de/wp-content/uploads/2024/10/2147765558.webp
END:VEVENT
END:VCALENDAR