BEGIN:VCALENDAR
VERSION:2.0
PRODID:-//Reso Witt e.V. - ECPv6.15.18//NONSGML v1.0//EN
CALSCALE:GREGORIAN
METHOD:PUBLISH
X-ORIGINAL-URL:https://reso-witt.de
X-WR-CALDESC:Veranstaltungen für Reso Witt e.V.
REFRESH-INTERVAL;VALUE=DURATION:PT1H
X-Robots-Tag:noindex
X-PUBLISHED-TTL:PT1H
BEGIN:VTIMEZONE
TZID:Europe/Berlin
BEGIN:DAYLIGHT
TZOFFSETFROM:+0100
TZOFFSETTO:+0200
TZNAME:CEST
DTSTART:20250330T010000
END:DAYLIGHT
BEGIN:STANDARD
TZOFFSETFROM:+0200
TZOFFSETTO:+0100
TZNAME:CET
DTSTART:20251026T010000
END:STANDARD
BEGIN:DAYLIGHT
TZOFFSETFROM:+0100
TZOFFSETTO:+0200
TZNAME:CEST
DTSTART:20260329T010000
END:DAYLIGHT
BEGIN:STANDARD
TZOFFSETFROM:+0200
TZOFFSETTO:+0100
TZNAME:CET
DTSTART:20261025T010000
END:STANDARD
BEGIN:DAYLIGHT
TZOFFSETFROM:+0100
TZOFFSETTO:+0200
TZNAME:CEST
DTSTART:20270328T010000
END:DAYLIGHT
BEGIN:STANDARD
TZOFFSETFROM:+0200
TZOFFSETTO:+0100
TZNAME:CET
DTSTART:20271031T010000
END:STANDARD
END:VTIMEZONE
BEGIN:VEVENT
DTSTART;TZID=Europe/Berlin:20261014T150000
DTEND;TZID=Europe/Berlin:20261014T170000
DTSTAMP:20260424T181404
CREATED:20260123T064604Z
LAST-MODIFIED:20260211T190450Z
UID:10001548-1791990000-1791997200@reso-witt.de
SUMMARY:Familienkontaktcafè ( FaKoRe )
DESCRIPTION:immer mittwochs von 15.30 – 17.30 Uhr im Hauptgeschäftshaus in der Großen Bruchstraße 17 \nAnsprechpartner im FaKoRe:  \nFrau Kiuntke \n\nTel. 03491/8731943\nMail: angela.kiuntke(at)reso- witt.de\n\nFrau Steffi Mundt \n\nTel. 03491/420961\nMail: steffi.mundt(at)reso- witt.de
URL:https://reso-witt.de/event/familienkontaktcafe-fakore-2026/2026-10-14/
ATTACH;FMTTYPE=image/webp:https://reso-witt.de/wp-content/uploads/2024/04/2148436201.webp
END:VEVENT
BEGIN:VEVENT
DTSTART;TZID=Europe/Berlin:20261021T150000
DTEND;TZID=Europe/Berlin:20261021T170000
DTSTAMP:20260424T181404
CREATED:20260123T064604Z
LAST-MODIFIED:20260211T190450Z
UID:10001549-1792594800-1792602000@reso-witt.de
SUMMARY:Familienkontaktcafè ( FaKoRe )
DESCRIPTION:immer mittwochs von 15.30 – 17.30 Uhr im Hauptgeschäftshaus in der Großen Bruchstraße 17 \nAnsprechpartner im FaKoRe:  \nFrau Kiuntke \n\nTel. 03491/8731943\nMail: angela.kiuntke(at)reso- witt.de\n\nFrau Steffi Mundt \n\nTel. 03491/420961\nMail: steffi.mundt(at)reso- witt.de
URL:https://reso-witt.de/event/familienkontaktcafe-fakore-2026/2026-10-21/
ATTACH;FMTTYPE=image/webp:https://reso-witt.de/wp-content/uploads/2024/04/2148436201.webp
END:VEVENT
BEGIN:VEVENT
DTSTART;TZID=Europe/Berlin:20261028T150000
DTEND;TZID=Europe/Berlin:20261028T170000
DTSTAMP:20260424T181404
CREATED:20260123T064604Z
LAST-MODIFIED:20260211T190450Z
UID:10001550-1793199600-1793206800@reso-witt.de
SUMMARY:Familienkontaktcafè ( FaKoRe )
DESCRIPTION:immer mittwochs von 15.30 – 17.30 Uhr im Hauptgeschäftshaus in der Großen Bruchstraße 17 \nAnsprechpartner im FaKoRe:  \nFrau Kiuntke \n\nTel. 03491/8731943\nMail: angela.kiuntke(at)reso- witt.de\n\nFrau Steffi Mundt \n\nTel. 03491/420961\nMail: steffi.mundt(at)reso- witt.de
URL:https://reso-witt.de/event/familienkontaktcafe-fakore-2026/2026-10-28/
ATTACH;FMTTYPE=image/webp:https://reso-witt.de/wp-content/uploads/2024/04/2148436201.webp
END:VEVENT
BEGIN:VEVENT
DTSTART;TZID=Europe/Berlin:20261104T150000
DTEND;TZID=Europe/Berlin:20261104T170000
DTSTAMP:20260424T181404
CREATED:20260123T064604Z
LAST-MODIFIED:20260211T190450Z
UID:10001551-1793804400-1793811600@reso-witt.de
SUMMARY:Familienkontaktcafè ( FaKoRe )
DESCRIPTION:immer mittwochs von 15.30 – 17.30 Uhr im Hauptgeschäftshaus in der Großen Bruchstraße 17 \nAnsprechpartner im FaKoRe:  \nFrau Kiuntke \n\nTel. 03491/8731943\nMail: angela.kiuntke(at)reso- witt.de\n\nFrau Steffi Mundt \n\nTel. 03491/420961\nMail: steffi.mundt(at)reso- witt.de
URL:https://reso-witt.de/event/familienkontaktcafe-fakore-2026/2026-11-04/
ATTACH;FMTTYPE=image/webp:https://reso-witt.de/wp-content/uploads/2024/04/2148436201.webp
END:VEVENT
BEGIN:VEVENT
DTSTART;TZID=Europe/Berlin:20261111T150000
DTEND;TZID=Europe/Berlin:20261111T170000
DTSTAMP:20260424T181404
CREATED:20260123T064604Z
LAST-MODIFIED:20260211T190450Z
UID:10001552-1794409200-1794416400@reso-witt.de
SUMMARY:Familienkontaktcafè ( FaKoRe )
DESCRIPTION:immer mittwochs von 15.30 – 17.30 Uhr im Hauptgeschäftshaus in der Großen Bruchstraße 17 \nAnsprechpartner im FaKoRe:  \nFrau Kiuntke \n\nTel. 03491/8731943\nMail: angela.kiuntke(at)reso- witt.de\n\nFrau Steffi Mundt \n\nTel. 03491/420961\nMail: steffi.mundt(at)reso- witt.de
URL:https://reso-witt.de/event/familienkontaktcafe-fakore-2026/2026-11-11/
ATTACH;FMTTYPE=image/webp:https://reso-witt.de/wp-content/uploads/2024/04/2148436201.webp
END:VEVENT
BEGIN:VEVENT
DTSTART;TZID=Europe/Berlin:20261118T150000
DTEND;TZID=Europe/Berlin:20261118T170000
DTSTAMP:20260424T181404
CREATED:20260123T064604Z
LAST-MODIFIED:20260211T190450Z
UID:10001553-1795014000-1795021200@reso-witt.de
SUMMARY:Familienkontaktcafè ( FaKoRe )
DESCRIPTION:immer mittwochs von 15.30 – 17.30 Uhr im Hauptgeschäftshaus in der Großen Bruchstraße 17 \nAnsprechpartner im FaKoRe:  \nFrau Kiuntke \n\nTel. 03491/8731943\nMail: angela.kiuntke(at)reso- witt.de\n\nFrau Steffi Mundt \n\nTel. 03491/420961\nMail: steffi.mundt(at)reso- witt.de
URL:https://reso-witt.de/event/familienkontaktcafe-fakore-2026/2026-11-18/
ATTACH;FMTTYPE=image/webp:https://reso-witt.de/wp-content/uploads/2024/04/2148436201.webp
END:VEVENT
BEGIN:VEVENT
DTSTART;TZID=Europe/Berlin:20261125T150000
DTEND;TZID=Europe/Berlin:20261125T170000
DTSTAMP:20260424T181404
CREATED:20260123T064604Z
LAST-MODIFIED:20260211T190450Z
UID:10001554-1795618800-1795626000@reso-witt.de
SUMMARY:Familienkontaktcafè ( FaKoRe )
DESCRIPTION:immer mittwochs von 15.30 – 17.30 Uhr im Hauptgeschäftshaus in der Großen Bruchstraße 17 \nAnsprechpartner im FaKoRe:  \nFrau Kiuntke \n\nTel. 03491/8731943\nMail: angela.kiuntke(at)reso- witt.de\n\nFrau Steffi Mundt \n\nTel. 03491/420961\nMail: steffi.mundt(at)reso- witt.de
URL:https://reso-witt.de/event/familienkontaktcafe-fakore-2026/2026-11-25/
ATTACH;FMTTYPE=image/webp:https://reso-witt.de/wp-content/uploads/2024/04/2148436201.webp
END:VEVENT
BEGIN:VEVENT
DTSTART;TZID=Europe/Berlin:20261202T150000
DTEND;TZID=Europe/Berlin:20261202T170000
DTSTAMP:20260424T181404
CREATED:20260123T064604Z
LAST-MODIFIED:20260211T190450Z
UID:10001555-1796223600-1796230800@reso-witt.de
SUMMARY:Familienkontaktcafè ( FaKoRe )
DESCRIPTION:immer mittwochs von 15.30 – 17.30 Uhr im Hauptgeschäftshaus in der Großen Bruchstraße 17 \nAnsprechpartner im FaKoRe:  \nFrau Kiuntke \n\nTel. 03491/8731943\nMail: angela.kiuntke(at)reso- witt.de\n\nFrau Steffi Mundt \n\nTel. 03491/420961\nMail: steffi.mundt(at)reso- witt.de
URL:https://reso-witt.de/event/familienkontaktcafe-fakore-2026/2026-12-02/
ATTACH;FMTTYPE=image/webp:https://reso-witt.de/wp-content/uploads/2024/04/2148436201.webp
END:VEVENT
BEGIN:VEVENT
DTSTART;TZID=Europe/Berlin:20261209T150000
DTEND;TZID=Europe/Berlin:20261209T170000
DTSTAMP:20260424T181404
CREATED:20260123T064604Z
LAST-MODIFIED:20260211T190450Z
UID:10001556-1796828400-1796835600@reso-witt.de
SUMMARY:Familienkontaktcafè ( FaKoRe )
DESCRIPTION:immer mittwochs von 15.30 – 17.30 Uhr im Hauptgeschäftshaus in der Großen Bruchstraße 17 \nAnsprechpartner im FaKoRe:  \nFrau Kiuntke \n\nTel. 03491/8731943\nMail: angela.kiuntke(at)reso- witt.de\n\nFrau Steffi Mundt \n\nTel. 03491/420961\nMail: steffi.mundt(at)reso- witt.de
URL:https://reso-witt.de/event/familienkontaktcafe-fakore-2026/2026-12-09/
ATTACH;FMTTYPE=image/webp:https://reso-witt.de/wp-content/uploads/2024/04/2148436201.webp
END:VEVENT
BEGIN:VEVENT
DTSTART;TZID=Europe/Berlin:20261216T150000
DTEND;TZID=Europe/Berlin:20261216T170000
DTSTAMP:20260424T181404
CREATED:20260123T064604Z
LAST-MODIFIED:20260211T190450Z
UID:10001557-1797433200-1797440400@reso-witt.de
SUMMARY:Familienkontaktcafè ( FaKoRe )
DESCRIPTION:immer mittwochs von 15.30 – 17.30 Uhr im Hauptgeschäftshaus in der Großen Bruchstraße 17 \nAnsprechpartner im FaKoRe:  \nFrau Kiuntke \n\nTel. 03491/8731943\nMail: angela.kiuntke(at)reso- witt.de\n\nFrau Steffi Mundt \n\nTel. 03491/420961\nMail: steffi.mundt(at)reso- witt.de
URL:https://reso-witt.de/event/familienkontaktcafe-fakore-2026/2026-12-16/
ATTACH;FMTTYPE=image/webp:https://reso-witt.de/wp-content/uploads/2024/04/2148436201.webp
END:VEVENT
END:VCALENDAR