BEGIN:VCALENDAR
VERSION:2.0
PRODID:-//Reso Witt e.V. - ECPv6.15.18//NONSGML v1.0//EN
CALSCALE:GREGORIAN
METHOD:PUBLISH
X-ORIGINAL-URL:https://reso-witt.de
X-WR-CALDESC:Veranstaltungen für Reso Witt e.V.
REFRESH-INTERVAL;VALUE=DURATION:PT1H
X-Robots-Tag:noindex
X-PUBLISHED-TTL:PT1H
BEGIN:VTIMEZONE
TZID:Europe/Berlin
BEGIN:DAYLIGHT
TZOFFSETFROM:+0100
TZOFFSETTO:+0200
TZNAME:CEST
DTSTART:20250330T010000
END:DAYLIGHT
BEGIN:STANDARD
TZOFFSETFROM:+0200
TZOFFSETTO:+0100
TZNAME:CET
DTSTART:20251026T010000
END:STANDARD
BEGIN:DAYLIGHT
TZOFFSETFROM:+0100
TZOFFSETTO:+0200
TZNAME:CEST
DTSTART:20260329T010000
END:DAYLIGHT
BEGIN:STANDARD
TZOFFSETFROM:+0200
TZOFFSETTO:+0100
TZNAME:CET
DTSTART:20261025T010000
END:STANDARD
BEGIN:DAYLIGHT
TZOFFSETFROM:+0100
TZOFFSETTO:+0200
TZNAME:CEST
DTSTART:20270328T010000
END:DAYLIGHT
BEGIN:STANDARD
TZOFFSETFROM:+0200
TZOFFSETTO:+0100
TZNAME:CET
DTSTART:20271031T010000
END:STANDARD
END:VTIMEZONE
BEGIN:VEVENT
DTSTART;TZID=Europe/Berlin:20260723T150000
DTEND;TZID=Europe/Berlin:20260723T170000
DTSTAMP:20260424T181404
CREATED:20260410T061225Z
LAST-MODIFIED:20260410T061225Z
UID:10001572-1784818800-1784826000@reso-witt.de
SUMMARY:Gruppenarbeit für Kinder
DESCRIPTION:immer montags von 15-17 Uhr im Hauptgeschäftshaus in der Großen Bruchstraße 17 \nVerantwortliche: \nFrau Wanzek \n\nTel. 03491/8731943\nMail: melanie.wanzek(at)reso-witt.de\n\nHerr Mounier Morad Agha\, \n\nTel. 03491/8731943\nMail: moradagha.mounier(at)reso-witt.de
URL:https://reso-witt.de/event/gruppenarbeit-fuer-kinder-2/2026-07-23/
ATTACH;FMTTYPE=image/webp:https://reso-witt.de/wp-content/uploads/2024/04/1460.webp
END:VEVENT
BEGIN:VEVENT
DTSTART;TZID=Europe/Berlin:20260730T150000
DTEND;TZID=Europe/Berlin:20260730T170000
DTSTAMP:20260424T181404
CREATED:20260410T061225Z
LAST-MODIFIED:20260410T061225Z
UID:10001573-1785423600-1785430800@reso-witt.de
SUMMARY:Gruppenarbeit für Kinder
DESCRIPTION:immer montags von 15-17 Uhr im Hauptgeschäftshaus in der Großen Bruchstraße 17 \nVerantwortliche: \nFrau Wanzek \n\nTel. 03491/8731943\nMail: melanie.wanzek(at)reso-witt.de\n\nHerr Mounier Morad Agha\, \n\nTel. 03491/8731943\nMail: moradagha.mounier(at)reso-witt.de
URL:https://reso-witt.de/event/gruppenarbeit-fuer-kinder-2/2026-07-30/
ATTACH;FMTTYPE=image/webp:https://reso-witt.de/wp-content/uploads/2024/04/1460.webp
END:VEVENT
BEGIN:VEVENT
DTSTART;TZID=Europe/Berlin:20260806T150000
DTEND;TZID=Europe/Berlin:20260806T170000
DTSTAMP:20260424T181404
CREATED:20260410T061225Z
LAST-MODIFIED:20260410T061225Z
UID:10001574-1786028400-1786035600@reso-witt.de
SUMMARY:Gruppenarbeit für Kinder
DESCRIPTION:immer montags von 15-17 Uhr im Hauptgeschäftshaus in der Großen Bruchstraße 17 \nVerantwortliche: \nFrau Wanzek \n\nTel. 03491/8731943\nMail: melanie.wanzek(at)reso-witt.de\n\nHerr Mounier Morad Agha\, \n\nTel. 03491/8731943\nMail: moradagha.mounier(at)reso-witt.de
URL:https://reso-witt.de/event/gruppenarbeit-fuer-kinder-2/2026-08-06/
ATTACH;FMTTYPE=image/webp:https://reso-witt.de/wp-content/uploads/2024/04/1460.webp
END:VEVENT
BEGIN:VEVENT
DTSTART;TZID=Europe/Berlin:20260813T150000
DTEND;TZID=Europe/Berlin:20260813T170000
DTSTAMP:20260424T181404
CREATED:20260410T061225Z
LAST-MODIFIED:20260410T061225Z
UID:10001575-1786633200-1786640400@reso-witt.de
SUMMARY:Gruppenarbeit für Kinder
DESCRIPTION:immer montags von 15-17 Uhr im Hauptgeschäftshaus in der Großen Bruchstraße 17 \nVerantwortliche: \nFrau Wanzek \n\nTel. 03491/8731943\nMail: melanie.wanzek(at)reso-witt.de\n\nHerr Mounier Morad Agha\, \n\nTel. 03491/8731943\nMail: moradagha.mounier(at)reso-witt.de
URL:https://reso-witt.de/event/gruppenarbeit-fuer-kinder-2/2026-08-13/
ATTACH;FMTTYPE=image/webp:https://reso-witt.de/wp-content/uploads/2024/04/1460.webp
END:VEVENT
BEGIN:VEVENT
DTSTART;TZID=Europe/Berlin:20260820T150000
DTEND;TZID=Europe/Berlin:20260820T170000
DTSTAMP:20260424T181404
CREATED:20260410T061225Z
LAST-MODIFIED:20260410T061225Z
UID:10001576-1787238000-1787245200@reso-witt.de
SUMMARY:Gruppenarbeit für Kinder
DESCRIPTION:immer montags von 15-17 Uhr im Hauptgeschäftshaus in der Großen Bruchstraße 17 \nVerantwortliche: \nFrau Wanzek \n\nTel. 03491/8731943\nMail: melanie.wanzek(at)reso-witt.de\n\nHerr Mounier Morad Agha\, \n\nTel. 03491/8731943\nMail: moradagha.mounier(at)reso-witt.de
URL:https://reso-witt.de/event/gruppenarbeit-fuer-kinder-2/2026-08-20/
ATTACH;FMTTYPE=image/webp:https://reso-witt.de/wp-content/uploads/2024/04/1460.webp
END:VEVENT
BEGIN:VEVENT
DTSTART;TZID=Europe/Berlin:20260827T150000
DTEND;TZID=Europe/Berlin:20260827T170000
DTSTAMP:20260424T181404
CREATED:20260410T061225Z
LAST-MODIFIED:20260410T061225Z
UID:10001577-1787842800-1787850000@reso-witt.de
SUMMARY:Gruppenarbeit für Kinder
DESCRIPTION:immer montags von 15-17 Uhr im Hauptgeschäftshaus in der Großen Bruchstraße 17 \nVerantwortliche: \nFrau Wanzek \n\nTel. 03491/8731943\nMail: melanie.wanzek(at)reso-witt.de\n\nHerr Mounier Morad Agha\, \n\nTel. 03491/8731943\nMail: moradagha.mounier(at)reso-witt.de
URL:https://reso-witt.de/event/gruppenarbeit-fuer-kinder-2/2026-08-27/
ATTACH;FMTTYPE=image/webp:https://reso-witt.de/wp-content/uploads/2024/04/1460.webp
END:VEVENT
BEGIN:VEVENT
DTSTART;TZID=Europe/Berlin:20260903T150000
DTEND;TZID=Europe/Berlin:20260903T170000
DTSTAMP:20260424T181404
CREATED:20260410T061225Z
LAST-MODIFIED:20260410T061225Z
UID:10001578-1788447600-1788454800@reso-witt.de
SUMMARY:Gruppenarbeit für Kinder
DESCRIPTION:immer montags von 15-17 Uhr im Hauptgeschäftshaus in der Großen Bruchstraße 17 \nVerantwortliche: \nFrau Wanzek \n\nTel. 03491/8731943\nMail: melanie.wanzek(at)reso-witt.de\n\nHerr Mounier Morad Agha\, \n\nTel. 03491/8731943\nMail: moradagha.mounier(at)reso-witt.de
URL:https://reso-witt.de/event/gruppenarbeit-fuer-kinder-2/2026-09-03/
ATTACH;FMTTYPE=image/webp:https://reso-witt.de/wp-content/uploads/2024/04/1460.webp
END:VEVENT
BEGIN:VEVENT
DTSTART;TZID=Europe/Berlin:20260910T150000
DTEND;TZID=Europe/Berlin:20260910T170000
DTSTAMP:20260424T181404
CREATED:20260410T061225Z
LAST-MODIFIED:20260410T061225Z
UID:10001579-1789052400-1789059600@reso-witt.de
SUMMARY:Gruppenarbeit für Kinder
DESCRIPTION:immer montags von 15-17 Uhr im Hauptgeschäftshaus in der Großen Bruchstraße 17 \nVerantwortliche: \nFrau Wanzek \n\nTel. 03491/8731943\nMail: melanie.wanzek(at)reso-witt.de\n\nHerr Mounier Morad Agha\, \n\nTel. 03491/8731943\nMail: moradagha.mounier(at)reso-witt.de
URL:https://reso-witt.de/event/gruppenarbeit-fuer-kinder-2/2026-09-10/
ATTACH;FMTTYPE=image/webp:https://reso-witt.de/wp-content/uploads/2024/04/1460.webp
END:VEVENT
BEGIN:VEVENT
DTSTART;TZID=Europe/Berlin:20260917T150000
DTEND;TZID=Europe/Berlin:20260917T170000
DTSTAMP:20260424T181404
CREATED:20260410T061225Z
LAST-MODIFIED:20260410T061225Z
UID:10001580-1789657200-1789664400@reso-witt.de
SUMMARY:Gruppenarbeit für Kinder
DESCRIPTION:immer montags von 15-17 Uhr im Hauptgeschäftshaus in der Großen Bruchstraße 17 \nVerantwortliche: \nFrau Wanzek \n\nTel. 03491/8731943\nMail: melanie.wanzek(at)reso-witt.de\n\nHerr Mounier Morad Agha\, \n\nTel. 03491/8731943\nMail: moradagha.mounier(at)reso-witt.de
URL:https://reso-witt.de/event/gruppenarbeit-fuer-kinder-2/2026-09-17/
ATTACH;FMTTYPE=image/webp:https://reso-witt.de/wp-content/uploads/2024/04/1460.webp
END:VEVENT
BEGIN:VEVENT
DTSTART;TZID=Europe/Berlin:20260924T150000
DTEND;TZID=Europe/Berlin:20260924T170000
DTSTAMP:20260424T181404
CREATED:20260410T061225Z
LAST-MODIFIED:20260410T061225Z
UID:10001581-1790262000-1790269200@reso-witt.de
SUMMARY:Gruppenarbeit für Kinder
DESCRIPTION:immer montags von 15-17 Uhr im Hauptgeschäftshaus in der Großen Bruchstraße 17 \nVerantwortliche: \nFrau Wanzek \n\nTel. 03491/8731943\nMail: melanie.wanzek(at)reso-witt.de\n\nHerr Mounier Morad Agha\, \n\nTel. 03491/8731943\nMail: moradagha.mounier(at)reso-witt.de
URL:https://reso-witt.de/event/gruppenarbeit-fuer-kinder-2/2026-09-24/
ATTACH;FMTTYPE=image/webp:https://reso-witt.de/wp-content/uploads/2024/04/1460.webp
END:VEVENT
BEGIN:VEVENT
DTSTART;TZID=Europe/Berlin:20261001T150000
DTEND;TZID=Europe/Berlin:20261001T170000
DTSTAMP:20260424T181404
CREATED:20260410T061225Z
LAST-MODIFIED:20260410T061225Z
UID:10001582-1790866800-1790874000@reso-witt.de
SUMMARY:Gruppenarbeit für Kinder
DESCRIPTION:immer montags von 15-17 Uhr im Hauptgeschäftshaus in der Großen Bruchstraße 17 \nVerantwortliche: \nFrau Wanzek \n\nTel. 03491/8731943\nMail: melanie.wanzek(at)reso-witt.de\n\nHerr Mounier Morad Agha\, \n\nTel. 03491/8731943\nMail: moradagha.mounier(at)reso-witt.de
URL:https://reso-witt.de/event/gruppenarbeit-fuer-kinder-2/2026-10-01/
ATTACH;FMTTYPE=image/webp:https://reso-witt.de/wp-content/uploads/2024/04/1460.webp
END:VEVENT
BEGIN:VEVENT
DTSTART;TZID=Europe/Berlin:20261008T150000
DTEND;TZID=Europe/Berlin:20261008T170000
DTSTAMP:20260424T181404
CREATED:20260410T061225Z
LAST-MODIFIED:20260410T061225Z
UID:10001583-1791471600-1791478800@reso-witt.de
SUMMARY:Gruppenarbeit für Kinder
DESCRIPTION:immer montags von 15-17 Uhr im Hauptgeschäftshaus in der Großen Bruchstraße 17 \nVerantwortliche: \nFrau Wanzek \n\nTel. 03491/8731943\nMail: melanie.wanzek(at)reso-witt.de\n\nHerr Mounier Morad Agha\, \n\nTel. 03491/8731943\nMail: moradagha.mounier(at)reso-witt.de
URL:https://reso-witt.de/event/gruppenarbeit-fuer-kinder-2/2026-10-08/
ATTACH;FMTTYPE=image/webp:https://reso-witt.de/wp-content/uploads/2024/04/1460.webp
END:VEVENT
BEGIN:VEVENT
DTSTART;TZID=Europe/Berlin:20261015T150000
DTEND;TZID=Europe/Berlin:20261015T170000
DTSTAMP:20260424T181404
CREATED:20260410T061225Z
LAST-MODIFIED:20260410T061225Z
UID:10001584-1792076400-1792083600@reso-witt.de
SUMMARY:Gruppenarbeit für Kinder
DESCRIPTION:immer montags von 15-17 Uhr im Hauptgeschäftshaus in der Großen Bruchstraße 17 \nVerantwortliche: \nFrau Wanzek \n\nTel. 03491/8731943\nMail: melanie.wanzek(at)reso-witt.de\n\nHerr Mounier Morad Agha\, \n\nTel. 03491/8731943\nMail: moradagha.mounier(at)reso-witt.de
URL:https://reso-witt.de/event/gruppenarbeit-fuer-kinder-2/2026-10-15/
ATTACH;FMTTYPE=image/webp:https://reso-witt.de/wp-content/uploads/2024/04/1460.webp
END:VEVENT
BEGIN:VEVENT
DTSTART;TZID=Europe/Berlin:20261022T150000
DTEND;TZID=Europe/Berlin:20261022T170000
DTSTAMP:20260424T181404
CREATED:20260410T061225Z
LAST-MODIFIED:20260410T061225Z
UID:10001585-1792681200-1792688400@reso-witt.de
SUMMARY:Gruppenarbeit für Kinder
DESCRIPTION:immer montags von 15-17 Uhr im Hauptgeschäftshaus in der Großen Bruchstraße 17 \nVerantwortliche: \nFrau Wanzek \n\nTel. 03491/8731943\nMail: melanie.wanzek(at)reso-witt.de\n\nHerr Mounier Morad Agha\, \n\nTel. 03491/8731943\nMail: moradagha.mounier(at)reso-witt.de
URL:https://reso-witt.de/event/gruppenarbeit-fuer-kinder-2/2026-10-22/
ATTACH;FMTTYPE=image/webp:https://reso-witt.de/wp-content/uploads/2024/04/1460.webp
END:VEVENT
BEGIN:VEVENT
DTSTART;TZID=Europe/Berlin:20261029T150000
DTEND;TZID=Europe/Berlin:20261029T170000
DTSTAMP:20260424T181404
CREATED:20260410T061225Z
LAST-MODIFIED:20260410T061225Z
UID:10001586-1793286000-1793293200@reso-witt.de
SUMMARY:Gruppenarbeit für Kinder
DESCRIPTION:immer montags von 15-17 Uhr im Hauptgeschäftshaus in der Großen Bruchstraße 17 \nVerantwortliche: \nFrau Wanzek \n\nTel. 03491/8731943\nMail: melanie.wanzek(at)reso-witt.de\n\nHerr Mounier Morad Agha\, \n\nTel. 03491/8731943\nMail: moradagha.mounier(at)reso-witt.de
URL:https://reso-witt.de/event/gruppenarbeit-fuer-kinder-2/2026-10-29/
ATTACH;FMTTYPE=image/webp:https://reso-witt.de/wp-content/uploads/2024/04/1460.webp
END:VEVENT
BEGIN:VEVENT
DTSTART;TZID=Europe/Berlin:20261105T150000
DTEND;TZID=Europe/Berlin:20261105T170000
DTSTAMP:20260424T181404
CREATED:20260410T061225Z
LAST-MODIFIED:20260410T061225Z
UID:10001587-1793890800-1793898000@reso-witt.de
SUMMARY:Gruppenarbeit für Kinder
DESCRIPTION:immer montags von 15-17 Uhr im Hauptgeschäftshaus in der Großen Bruchstraße 17 \nVerantwortliche: \nFrau Wanzek \n\nTel. 03491/8731943\nMail: melanie.wanzek(at)reso-witt.de\n\nHerr Mounier Morad Agha\, \n\nTel. 03491/8731943\nMail: moradagha.mounier(at)reso-witt.de
URL:https://reso-witt.de/event/gruppenarbeit-fuer-kinder-2/2026-11-05/
ATTACH;FMTTYPE=image/webp:https://reso-witt.de/wp-content/uploads/2024/04/1460.webp
END:VEVENT
BEGIN:VEVENT
DTSTART;TZID=Europe/Berlin:20261112T150000
DTEND;TZID=Europe/Berlin:20261112T170000
DTSTAMP:20260424T181404
CREATED:20260410T061225Z
LAST-MODIFIED:20260410T061225Z
UID:10001588-1794495600-1794502800@reso-witt.de
SUMMARY:Gruppenarbeit für Kinder
DESCRIPTION:immer montags von 15-17 Uhr im Hauptgeschäftshaus in der Großen Bruchstraße 17 \nVerantwortliche: \nFrau Wanzek \n\nTel. 03491/8731943\nMail: melanie.wanzek(at)reso-witt.de\n\nHerr Mounier Morad Agha\, \n\nTel. 03491/8731943\nMail: moradagha.mounier(at)reso-witt.de
URL:https://reso-witt.de/event/gruppenarbeit-fuer-kinder-2/2026-11-12/
ATTACH;FMTTYPE=image/webp:https://reso-witt.de/wp-content/uploads/2024/04/1460.webp
END:VEVENT
BEGIN:VEVENT
DTSTART;TZID=Europe/Berlin:20261119T150000
DTEND;TZID=Europe/Berlin:20261119T170000
DTSTAMP:20260424T181404
CREATED:20260410T061225Z
LAST-MODIFIED:20260410T061225Z
UID:10001589-1795100400-1795107600@reso-witt.de
SUMMARY:Gruppenarbeit für Kinder
DESCRIPTION:immer montags von 15-17 Uhr im Hauptgeschäftshaus in der Großen Bruchstraße 17 \nVerantwortliche: \nFrau Wanzek \n\nTel. 03491/8731943\nMail: melanie.wanzek(at)reso-witt.de\n\nHerr Mounier Morad Agha\, \n\nTel. 03491/8731943\nMail: moradagha.mounier(at)reso-witt.de
URL:https://reso-witt.de/event/gruppenarbeit-fuer-kinder-2/2026-11-19/
ATTACH;FMTTYPE=image/webp:https://reso-witt.de/wp-content/uploads/2024/04/1460.webp
END:VEVENT
BEGIN:VEVENT
DTSTART;TZID=Europe/Berlin:20261126T150000
DTEND;TZID=Europe/Berlin:20261126T170000
DTSTAMP:20260424T181404
CREATED:20260410T061225Z
LAST-MODIFIED:20260410T061225Z
UID:10001590-1795705200-1795712400@reso-witt.de
SUMMARY:Gruppenarbeit für Kinder
DESCRIPTION:immer montags von 15-17 Uhr im Hauptgeschäftshaus in der Großen Bruchstraße 17 \nVerantwortliche: \nFrau Wanzek \n\nTel. 03491/8731943\nMail: melanie.wanzek(at)reso-witt.de\n\nHerr Mounier Morad Agha\, \n\nTel. 03491/8731943\nMail: moradagha.mounier(at)reso-witt.de
URL:https://reso-witt.de/event/gruppenarbeit-fuer-kinder-2/2026-11-26/
ATTACH;FMTTYPE=image/webp:https://reso-witt.de/wp-content/uploads/2024/04/1460.webp
END:VEVENT
BEGIN:VEVENT
DTSTART;TZID=Europe/Berlin:20261203T150000
DTEND;TZID=Europe/Berlin:20261203T170000
DTSTAMP:20260424T181404
CREATED:20260410T061225Z
LAST-MODIFIED:20260410T061225Z
UID:10001591-1796310000-1796317200@reso-witt.de
SUMMARY:Gruppenarbeit für Kinder
DESCRIPTION:immer montags von 15-17 Uhr im Hauptgeschäftshaus in der Großen Bruchstraße 17 \nVerantwortliche: \nFrau Wanzek \n\nTel. 03491/8731943\nMail: melanie.wanzek(at)reso-witt.de\n\nHerr Mounier Morad Agha\, \n\nTel. 03491/8731943\nMail: moradagha.mounier(at)reso-witt.de
URL:https://reso-witt.de/event/gruppenarbeit-fuer-kinder-2/2026-12-03/
ATTACH;FMTTYPE=image/webp:https://reso-witt.de/wp-content/uploads/2024/04/1460.webp
END:VEVENT
BEGIN:VEVENT
DTSTART;TZID=Europe/Berlin:20261210T150000
DTEND;TZID=Europe/Berlin:20261210T170000
DTSTAMP:20260424T181404
CREATED:20260410T061225Z
LAST-MODIFIED:20260410T061225Z
UID:10001592-1796914800-1796922000@reso-witt.de
SUMMARY:Gruppenarbeit für Kinder
DESCRIPTION:immer montags von 15-17 Uhr im Hauptgeschäftshaus in der Großen Bruchstraße 17 \nVerantwortliche: \nFrau Wanzek \n\nTel. 03491/8731943\nMail: melanie.wanzek(at)reso-witt.de\n\nHerr Mounier Morad Agha\, \n\nTel. 03491/8731943\nMail: moradagha.mounier(at)reso-witt.de
URL:https://reso-witt.de/event/gruppenarbeit-fuer-kinder-2/2026-12-10/
ATTACH;FMTTYPE=image/webp:https://reso-witt.de/wp-content/uploads/2024/04/1460.webp
END:VEVENT
BEGIN:VEVENT
DTSTART;TZID=Europe/Berlin:20261217T150000
DTEND;TZID=Europe/Berlin:20261217T170000
DTSTAMP:20260424T181404
CREATED:20260410T061225Z
LAST-MODIFIED:20260410T061225Z
UID:10001593-1797519600-1797526800@reso-witt.de
SUMMARY:Gruppenarbeit für Kinder
DESCRIPTION:immer montags von 15-17 Uhr im Hauptgeschäftshaus in der Großen Bruchstraße 17 \nVerantwortliche: \nFrau Wanzek \n\nTel. 03491/8731943\nMail: melanie.wanzek(at)reso-witt.de\n\nHerr Mounier Morad Agha\, \n\nTel. 03491/8731943\nMail: moradagha.mounier(at)reso-witt.de
URL:https://reso-witt.de/event/gruppenarbeit-fuer-kinder-2/2026-12-17/
ATTACH;FMTTYPE=image/webp:https://reso-witt.de/wp-content/uploads/2024/04/1460.webp
END:VEVENT
END:VCALENDAR